BEGIN:VCALENDAR
VERSION:2.0
PRODID:-//eventon.com NONSGML v1.0//EN
CALSCALE:GREGORIAN
METHOD:PUBLISH
BEGIN:VEVENT
UID:69eb7320497ec
DTSTAMP:20260424T134152Z
DTSTART:20260418T180000Z
DTEND:20260419T035900Z
LOCATION:Westminister-Canterbury On Chesapeake Bay 3100 Shore Drive Virginia Beach VA 23451
SUMMARY:REEL MUSIC
DESCRIPTION:Lights\,  Camera\,  Action! Join Symphonic Artistry for a conce
 rt full of sweeping melodies\,  picturesque scenes\,  and tense moments all
  from legendary film scores. Featuring the music Klaus Badelt\,  Leonard Be
 rnstein\,  John Williams\,  Hans Zimmer\,  and more\,  you&#8217;ll want to
  be seated with popcorn ready for this Reel Music!   FREE[..]\nhttps://sym
 phonicartistry.org/events/reel-music/
URL:https://symphonicartistry.org/events/reel-music/
END:VEVENT
END:VCALENDAR