BEGIN:VCALENDAR
VERSION:2.0
PRODID:-//eventon.com NONSGML v1.0//EN
CALSCALE:GREGORIAN
METHOD:PUBLISH
BEGIN:VEVENT
UID:69eb6692a239c
DTSTAMP:20260424T124818Z
DTSTART:20260516T150000Z
DTEND:20260517T035900Z
LOCATION:Portsmouth Art &amp; Cultural Center 400 High Street Portsmouth\,  VA 23704
SUMMARY:REEL MUSIC
DESCRIPTION:Lights\,  Camera\,  Action! Join Symphonic Artistry for a conce
 rt full of sweeping melodies\,  picturesque scenes\,  and tense moments all
  from legendary film scores. Featuring the music Klaus Badelt\,  Leonard Be
 rnstein\,  John Williams\,  Hans Zimmer\,  and more\,  you&#8217;ll want to
  be seated with popcorn ready for this Reel Music!   FREE[..]\nhttps://sym
 phonicartistry.org/events/reel-music-2/
URL:https://symphonicartistry.org/events/reel-music-2/
END:VEVENT
END:VCALENDAR