BEGIN:VCALENDAR
VERSION:2.0
PRODID:-//eventon.com NONSGML v1.0//EN
CALSCALE:GREGORIAN
METHOD:PUBLISH
BEGIN:VEVENT
UID:69eb7373314dc
DTSTAMP:20260424T134315Z
DTSTART:20260510T170000Z
DTEND:20260511T035900Z
LOCATION:Diamonstein Concert Hall\,  Ferguson Center for the Arts 1 Avenue of the Arts
SUMMARY:VA Community Music Festival
DESCRIPTION:&#8216;Reel Music&#8217; Join Symphonic Artistry Wind Ensemble 
 as they perform for the first time at the 5th Annual Virginia Community Mus
 ic Festival at CNU in the Ferguson Center for the Arts\,  in Diamonstein Co
 ncert Hall! For more concerts throughout the festival\,  visit their webpag
 e! Lights\,  Camera\,  Action! Featuring the music[..]\nhttps://symphonicar
 tistry.org/events/vcmf-reel-music/
URL:https://symphonicartistry.org/events/vcmf-reel-music/
END:VEVENT
END:VCALENDAR